BEGIN:VCALENDAR
VERSION:2.0
PRODID:-//Montessori School of Holmes Run - ECPv6.15.13//NONSGML v1.0//EN
CALSCALE:GREGORIAN
METHOD:PUBLISH
X-WR-CALNAME:Montessori School of Holmes Run
X-ORIGINAL-URL:https://vamontessori.com
X-WR-CALDESC:Events for Montessori School of Holmes Run
REFRESH-INTERVAL;VALUE=DURATION:PT1H
X-Robots-Tag:noindex
X-PUBLISHED-TTL:PT1H
BEGIN:VTIMEZONE
TZID:America/New_York
BEGIN:DAYLIGHT
TZOFFSETFROM:-0500
TZOFFSETTO:-0400
TZNAME:EDT
DTSTART:20220313T070000
END:DAYLIGHT
BEGIN:STANDARD
TZOFFSETFROM:-0400
TZOFFSETTO:-0500
TZNAME:EST
DTSTART:20221106T060000
END:STANDARD
BEGIN:DAYLIGHT
TZOFFSETFROM:-0500
TZOFFSETTO:-0400
TZNAME:EDT
DTSTART:20230312T070000
END:DAYLIGHT
BEGIN:STANDARD
TZOFFSETFROM:-0400
TZOFFSETTO:-0500
TZNAME:EST
DTSTART:20231105T060000
END:STANDARD
BEGIN:DAYLIGHT
TZOFFSETFROM:-0500
TZOFFSETTO:-0400
TZNAME:EDT
DTSTART:20240310T070000
END:DAYLIGHT
BEGIN:STANDARD
TZOFFSETFROM:-0400
TZOFFSETTO:-0500
TZNAME:EST
DTSTART:20241103T060000
END:STANDARD
END:VTIMEZONE
BEGIN:VTIMEZONE
TZID:America/Los_Angeles
BEGIN:DAYLIGHT
TZOFFSETFROM:-0800
TZOFFSETTO:-0700
TZNAME:PDT
DTSTART:20220313T100000
END:DAYLIGHT
BEGIN:STANDARD
TZOFFSETFROM:-0700
TZOFFSETTO:-0800
TZNAME:PST
DTSTART:20221106T090000
END:STANDARD
BEGIN:DAYLIGHT
TZOFFSETFROM:-0800
TZOFFSETTO:-0700
TZNAME:PDT
DTSTART:20230312T100000
END:DAYLIGHT
BEGIN:STANDARD
TZOFFSETFROM:-0700
TZOFFSETTO:-0800
TZNAME:PST
DTSTART:20231105T090000
END:STANDARD
BEGIN:DAYLIGHT
TZOFFSETFROM:-0800
TZOFFSETTO:-0700
TZNAME:PDT
DTSTART:20240310T100000
END:DAYLIGHT
BEGIN:STANDARD
TZOFFSETFROM:-0700
TZOFFSETTO:-0800
TZNAME:PST
DTSTART:20241103T090000
END:STANDARD
END:VTIMEZONE
BEGIN:VEVENT
DTSTART;TZID=America/New_York:20231026T083000
DTEND;TZID=America/New_York:20231026T093000
DTSTAMP:20260420T093126
CREATED:20230823T153428Z
LAST-MODIFIED:20230823T153428Z
UID:791-1698309000-1698312600@vamontessori.com
SUMMARY:Picture Day
DESCRIPTION:
URL:https://vamontessori.com/event/picture-day/
CATEGORIES:School Event
END:VEVENT
BEGIN:VEVENT
DTSTART;TZID=America/New_York:20231020T150000
DTEND;TZID=America/New_York:20231020T170000
DTSTAMP:20260420T093126
CREATED:20230823T153359Z
LAST-MODIFIED:20230823T153359Z
UID:789-1697814000-1697821200@vamontessori.com
SUMMARY:Co-op Workshop
DESCRIPTION:
URL:https://vamontessori.com/event/co-op-workshop-2/
CATEGORIES:Co-Op Workshop
END:VEVENT
BEGIN:VEVENT
DTSTART;VALUE=DATE:20231009
DTEND;VALUE=DATE:20231010
DTSTAMP:20260420T093126
CREATED:20230823T153340Z
LAST-MODIFIED:20230823T153340Z
UID:787-1696809600-1696895999@vamontessori.com
SUMMARY:Indigenous Peoples’ Day - SCHOOL CLOSED/NO CHILDCARE
DESCRIPTION:
URL:https://vamontessori.com/event/indigenous-peoples-day-school-closed-no-childcare/
CATEGORIES:No School
END:VEVENT
BEGIN:VEVENT
DTSTART;TZID=America/New_York:20230922T150000
DTEND;TZID=America/New_York:20230922T170000
DTSTAMP:20260420T093126
CREATED:20230823T153320Z
LAST-MODIFIED:20230823T153320Z
UID:785-1695394800-1695402000@vamontessori.com
SUMMARY:Co-op Workshop
DESCRIPTION:
URL:https://vamontessori.com/event/co-op-workshop/
CATEGORIES:Co-Op Workshop
END:VEVENT
BEGIN:VEVENT
DTSTART;TZID=America/New_York:20230913T170000
DTEND;TZID=America/New_York:20230913T180000
DTSTAMP:20260420T093126
CREATED:20230823T153247Z
LAST-MODIFIED:20230823T153247Z
UID:783-1694624400-1694628000@vamontessori.com
SUMMARY:Parent Orientation
DESCRIPTION:
URL:https://vamontessori.com/event/parent-orientation/
CATEGORIES:School Event
END:VEVENT
BEGIN:VEVENT
DTSTART;TZID=America/New_York:20230906T160000
DTEND;TZID=America/New_York:20230906T180000
DTSTAMP:20260420T093126
CREATED:20230823T153132Z
LAST-MODIFIED:20230823T153132Z
UID:781-1694016000-1694023200@vamontessori.com
SUMMARY:Opening Picnic @ playground
DESCRIPTION:
URL:https://vamontessori.com/event/opening-picnic-playground/
CATEGORIES:School Event
END:VEVENT
BEGIN:VEVENT
DTSTART;VALUE=DATE:20230904
DTEND;VALUE=DATE:20230905
DTSTAMP:20260420T093126
CREATED:20230823T153056Z
LAST-MODIFIED:20230823T153056Z
UID:779-1693785600-1693871999@vamontessori.com
SUMMARY:Labor Day – SCHOOL CLOSED/NO CHILDCARE
DESCRIPTION:
URL:https://vamontessori.com/event/labor-day-school-closed-no-childcare/
CATEGORIES:No School
END:VEVENT
BEGIN:VEVENT
DTSTART;VALUE=DATE:20230828
DTEND;VALUE=DATE:20230829
DTSTAMP:20260420T093126
CREATED:20230823T123009Z
LAST-MODIFIED:20230823T123009Z
UID:777-1693180800-1693267199@vamontessori.com
SUMMARY:First day for all students
DESCRIPTION:
URL:https://vamontessori.com/event/first-day-for-all-students/
CATEGORIES:School Event
END:VEVENT
END:VCALENDAR